BEGIN:VCALENDAR
PRODID:-//Det Danske Spejderkorps//NONSGML Gruppeweb//EN
VERSION:2.0
CALSCALE:GREGORIAN
X-PUBLISHED-TTL:PT1H
X-WR-CALNAME:Trop i Tåsinge Gruppe
METHOD:PUBLISH
BEGIN:VEVENT
UID:gruppeweb.dk:4109:event:43
DTSTAMP:20260421T082913Z
LAST-MODIFIED:20250820T145338Z
SUMMARY:Første Tropmøde efter sommerferien
DESCRIPTION:\n
URL:https://taasingegruppe.dk/begivenhed/foerste-tropmoede-efter-sommerferi
 en
DTSTART;VALUE=DATE:20250812
LOCATION:Granhytten Tåsinge Gruppe
END:VEVENT
BEGIN:VEVENT
UID:gruppeweb.dk:4109:event:57
DTSTAMP:20260421T082913Z
LAST-MODIFIED:20250820T173723Z
SUMMARY:Oprykning
DESCRIPTION:På tirsdag den 19/8 kl. 17-19 vil vi gerne invitere alle spejd
 ere\, forældre  \nog søskende til fællesspisning og oprykning i Granhyt
 ten. Se vedhæftede  \ninvitation.\n\n\nVi mødes kl. 17.00 ved flagstange
 n og hejser flaget.\n\n\nDerefter har vi fællesspisning\, hvor alle famil
 ier medbringer en ret til en  \nfælles buffet.\n\n\nHusk service til eget
  brug.\n\n
URL:https://taasingegruppe.dk/begivenhed/oprykning
DTSTART;VALUE=DATE:20250819
LOCATION:
END:VEVENT
BEGIN:VEVENT
UID:gruppeweb.dk:4109:event:46
DTSTAMP:20260421T082913Z
LAST-MODIFIED:20250925T133138Z
SUMMARY:PLan-kursus (kun for Trop)
DESCRIPTION:PLan-start er til nyoprykkede tropsspejdere og 3. års juniorer
 \, som går i  \n6. klasse ved kursusstart og vil på deres første PLan-k
 ursus. \nPLan-start introducerer spejderne til spejderarbejdet som tropss
 pejdere.\nLæs mere på http://dds.dk/plan [1]\n\n\n[1] https://dds.dk/pla
 n\n
URL:https://taasingegruppe.dk/begivenhed/plan-kursus-kun-trop
DTSTART;VALUE=DATE:20251012
DTEND;VALUE=DATE:20251018
LOCATION:
END:VEVENT
BEGIN:VEVENT
UID:gruppeweb.dk:4109:event:45
DTSTAMP:20260421T082913Z
LAST-MODIFIED:20250925T133045Z
SUMMARY:Fenris - løb for Trop
DESCRIPTION:Fenris er lavet for at tilbyde spejderpatruljer et løb\, hvor 
 også de yngste  \nspejdere fint kan deltage og få en god oplevelse. \n\
 nHer handler det ikke ikke om at bære meget\, gå/løbe hurtigt eller væ
 re i  \ngang i døgndrift - men i stedet om\, at hele patruljen er afsted 
 på løb  \nsammen. At alle bliver tilpas udfordret\, uanset om man er ny 
 spejder eller  \nerfaren patruljeleder.\nTilmelding åbner kl. 19.00 den 1
 . september 2025. Få tilmeldingen via vores  \nnyhedsmail.\n\nTilmelding 
 lukker når der er 60 godkendte patruljer i løbet af september.  \nTilmel
 ding er efter først til mølle!\n\nStartsted: Brejning Station.\n\nSlutst
 ed Cirka 40 minutters gang fra Brejning Station.\n\nDeltagere: Du kan delt
 age hvis du i løbet af 2025 fylder 12 år\, 13 år\, 14  \når\, 15 år e
 ller 16 år. Det er dit fødselsår der afgør om du kan  \ndeltage. Se me
 re om det i løbsreglerne.\n\nhttps://web.fenris.info/\n\n
URL:https://taasingegruppe.dk/begivenhed/fenris-loeb-trop
DTSTART;VALUE=DATE:20251025
DTEND;VALUE=DATE:20251027
LOCATION:Bregning
END:VEVENT
BEGIN:VEVENT
UID:gruppeweb.dk:4109:event:44
DTSTAMP:20260421T082913Z
LAST-MODIFIED:20250925T131535Z
SUMMARY:Halloweenløb
DESCRIPTION:Vi laver et (u)hyggeligt Halloween spejderløb for hele Tåsing
 e gruppe  \n(Familiespejder\, Mikro\, Mini\, Junior og Trop)\n\n\nMere inf
 o følger\n\n
URL:https://taasingegruppe.dk/begivenhed/halloweenloeb
DTSTART;VALUE=DATE:20251028
LOCATION:
END:VEVENT
BEGIN:VEVENT
UID:gruppeweb.dk:4109:event:55
DTSTAMP:20260421T082913Z
LAST-MODIFIED:20250925T131605Z
SUMMARY:Juleafslutning
DESCRIPTION:Alle spejdere i Tåsinge gruppe holder fælles juleafslutning.\
 n\n\nMere info følger\n\n
URL:https://taasingegruppe.dk/begivenhed/juleafslutning
DTSTART;VALUE=DATE:20251126
LOCATION:
END:VEVENT
BEGIN:VEVENT
UID:gruppeweb.dk:4109:event:49
DTSTAMP:20260421T082913Z
LAST-MODIFIED:20250820T172934Z
SUMMARY:December spejderfri
DESCRIPTION:Der vil ikke være spejder i hele decembermåned.\n\n
URL:https://taasingegruppe.dk/begivenhed/december-spejderfri
DTSTART;VALUE=DATE:20251201
DTEND;VALUE=DATE:20260101
LOCATION:
END:VEVENT
BEGIN:VEVENT
UID:gruppeweb.dk:4109:event:47
DTSTAMP:20260421T082913Z
LAST-MODIFIED:20250925T131918Z
SUMMARY:Opstart efter juleferie
DESCRIPTION:Opstart tirsdag 6/1-2026\nMini: 17.00-18.30\n\nJunior: 16.30-18
 .00\nTrop: 18-20\nOpstart onsdag 7/1-2026\n\nFamilespejder 16.00-17.45\n\n
 Mikro 16.00-17.45\n\n
URL:https://taasingegruppe.dk/begivenhed/opstart-efter-juleferie
DTSTART;VALUE=DATE:20260106
DTEND;VALUE=DATE:20260108
LOCATION:
END:VEVENT
BEGIN:VEVENT
UID:gruppeweb.dk:4109:event:53
DTSTAMP:20260421T082913Z
LAST-MODIFIED:20250925T131930Z
SUMMARY:Grupperådsmøde 2026
DESCRIPTION:Det årlige grupperådsmøde\, hvor alle forældre\, ledere og 
 bestyrelse  \nsamles.\n\n\nNærmere info følger \n\n
URL:https://taasingegruppe.dk/begivenhed/grupperaadsmoede-2026
DTSTART;VALUE=DATE:20260224
LOCATION:
END:VEVENT
BEGIN:VEVENT
UID:gruppeweb.dk:4109:event:56
DTSTAMP:20260421T082913Z
LAST-MODIFIED:20250925T131940Z
SUMMARY:Tænkedag
DESCRIPTION:Nærmere info følger\n\n
URL:https://taasingegruppe.dk/begivenhed/taenkedag
DTSTART;VALUE=DATE:20260224
LOCATION:
END:VEVENT
BEGIN:VEVENT
UID:gruppeweb.dk:4109:event:64
DTSTAMP:20260421T082913Z
LAST-MODIFIED:20260217T084246Z
SUMMARY:Gruppetur 2026 - Junior og Trop
DESCRIPTION:Årets Gruppetur går til Hylkedam\, hvor vi i fællesskab tage
 r et kig ud i  \nfremtiden. \n\nVi mødes fredag aften til fælles aftens
 mad\, og hvem ved - måske skal vi  \npå en lille ekspedition. \n\nLørd
 ag møder resten af Gruppen ind\, og vi skal på et fælles dagsløb\,  \n
 hvor vi bliver delt i blandede patruljer. \n\nSøndag slutter vi af med o
 prydning og fælles leg og aktiviteter.\n\n\nStart: Fredag 20. marts kl. 1
 7\n\nSlut: Søndag 22. marts kl. 10\n\nSted: Hylkedam\, Hylkedamvej 54\, G
 elsted\n\nKontaktnummer: 40452546 (Maja)\, 22456980 (Camilla)\, 41680608 (
 Kamilla)\n\nPris: 150 kr.\n\nPakkeliste:\n\n\n * Sovepose\, lagen\, evt. h
 ovedpude og sovebamse\n   \n * Varmt tøj\, overtøj og varme støvler/sko
  (vi skal på løb udenfor)\n   \n * Skiftetøj\n   \n * Evt. Regntøj\, h
 ue og handsker\n   \n * Toiletsager\n   \n * Indesko\n   \n\nVi glæder os
  til en masse sjov og hygge sammen med jer!\n\nSpejderhilsner \n\nAlle le
 derne i Tåsinge Gruppe\n\n
URL:https://taasingegruppe.dk/begivenhed/gruppetur-2026-junior-og-trop
DTSTART;VALUE=DATE:20260320
DTEND;VALUE=DATE:20260323
LOCATION:Hylkedam\, Hylkedamvej 54\, 5591 Gelsted
END:VEVENT
BEGIN:VEVENT
UID:gruppeweb.dk:4109:event:63
DTSTAMP:20260421T082913Z
LAST-MODIFIED:20260311T164135Z
SUMMARY:Gruppetur 2026 - Familiespejder/Mikro
DESCRIPTION:Årets Gruppetur går til Hylkedam\, hvor vi i fællesskab tage
 r et kig ud i  \nfremtiden. \n\nVi mødes lørdag morgen til fælles flag
 hejsning og patruljeinddeling.  \nHerefter skal vi i vores blandede patrul
 jer på et dagsløb hvor vi skal  \nløse spændende fremtidsaktiviteter.
  \n\nVi slutter af med aftensmad og fælles lejrbål lørdag aften. \n\n
 \nStart: Lørdag 21. marts kl. 9.00\n\nSlut: Lørdag 21. marts kl. 20.00 (
 vejledende - tag en vurdering af dit barn  \nog hvor meget de kan være me
 d til)\n\nSted: Hylkedam\, Hylkedamvej 54\, Gelsted\n\nKontaktnummer: 4045
 2546 (Maja)\, 22456980 (Camilla)\, 41680608 (Kamilla)\n\nPris: 75 kr.\n\nP
 akkeliste:\nMedbring tøj\, der passer til vejret\, overtøj og gode støv
 ler/sko. Vi skal  \nvære udendørs det meste af dagen. Medbring også ger
 ne et par indesko til  \nnår vi skal være i hytten. \n\n\nVi glæder os
  til en masse sjov og hygge sammen med jer!\n\nSpejderhilsner \n\nAlle le
 derne i Tåsinge Gruppe\n\n
URL:https://taasingegruppe.dk/begivenhed/gruppetur-2026-familiespejdermikro
DTSTART:20260321T080000Z
DTEND:20260321T190000Z
LOCATION:Hylkedam\, Hylkedamvej 54\, 5591 Gelsted
END:VEVENT
BEGIN:VEVENT
UID:gruppeweb.dk:4109:event:65
DTSTAMP:20260421T082913Z
LAST-MODIFIED:20260312T082722Z
SUMMARY:Gruppetur 2026 - Mini/junior 1 overnatning
DESCRIPTION:Årets Gruppetur går til Hylkedam\, hvor vi i fællesskab tage
 r et kig ud i  \nfremtiden. \n\nVi mødes lørdag morgen til fælles flag
 hejsning og patruljeinddeling.  \nHerefter skal vi i vores blandede patrul
 jer på et dagsløb hvor vi skal  \nløse spændende fremtidsaktiviteter.
  \n\nVi slutter af med oprydning og fælles aktiviteter søndag formiddag
 . \n\n\nStart: Lørdag 21. marts kl. 9.00\n\nSlut: Søndag 22. marts kl. 
 10.00\n\nSted: Hylkedam\, Hylkedamvej 54\, Gelsted\n\nKontaktnummer: 40452
 546 (Maja)\, 22456980 (Camilla)\, 41680608 (Kamilla)\n\nPris: 100 kr.\n\nP
 akkeliste:\n\n * Sovepose\, lagen\, evt. hovedpude og sovebamse\n   \n * V
 armt tøj\, overtøj og varme støvler/sko (vi skal på løb udenfor og\n 
   være udendørs det meste af tiden)\n   \n * Skiftetøj\n   \n * Evt. Re
 gntøj\, huer og handsker\n   \n * Toiletsager\n   \n * Indesko\n   \n\n 
 \n\n\nVi glæder os til en masse sjov og hygge sammen med jer!\n\nSpejderh
 ilsner \n\nAlle lederne i Tåsinge Gruppe\n\n
URL:https://taasingegruppe.dk/begivenhed/gruppetur-2026-minijunior-1-overna
 tning
DTSTART:20260321T080000Z
DTEND:20260322T090000Z
LOCATION:Hylkedam\, Hylkedamvej 54\, 5591 Gelsted
END:VEVENT
BEGIN:VEVENT
UID:gruppeweb.dk:4109:event:52
DTSTAMP:20260421T082913Z
LAST-MODIFIED:20250925T132006Z
SUMMARY:Sankt Georg dag
DESCRIPTION:Sankt Georg dag fejrer vi med et fælles spejderløb for alle s
 pejdere i  \nTåsinge gruppe\n\n\nNærmere info følger\n\n
URL:https://taasingegruppe.dk/begivenhed/sankt-georg-dag
DTSTART;VALUE=DATE:20260421
LOCATION:
END:VEVENT
BEGIN:VEVENT
UID:gruppeweb.dk:4109:event:51
DTSTAMP:20260421T082913Z
LAST-MODIFIED:20250925T132019Z
SUMMARY:Sommerafslutning
DESCRIPTION:Fælles sommerafslutning for alle spejdere i Tåsinge gruppe\n\
 n\nNærmere info følger\n\n
URL:https://taasingegruppe.dk/begivenhed/sommerafslutning
DTSTART;VALUE=DATE:20260617
LOCATION:
END:VEVENT
BEGIN:VEVENT
UID:gruppeweb.dk:4109:event:60
DTSTAMP:20260421T082913Z
LAST-MODIFIED:20260224T175235Z
SUMMARY:Spejdernes Lejr 2026 - Junior og Trop
DESCRIPTION:Nordens største spejderlejr bliver næste gang afholdt i Hedel
 and Naturpark  \nfra lørdag den 18. juli til søndag den 26. juli 2026. D
 et er første gang\,  \nat lejren afholdes samme sted\, og vi glæder os o
 ver igen at kunne slå lejr  \ni Hedelands smukke omgivelser. Lejren er pr
 imært drevet af frivillige og  \nafholdes i samarbejde med Høje-Taastrup
  Kommune og Roskilde Kommune.Vi  \nforventer cirka 30.000 deltagere i løb
 et af lejrens ni dage og dertil kommer  \ncirka 50.000 gæster\, som vil b
 esøge lejren og få et indblik i spejderlivet  \nanno 2026. Det er gratis
  at besøge lejren (udover en parkeringsafgift) og  \nbesøgende kan også
  gratis prøve kræfter med spejderarbejdet via nogle af  \nvores mange dr
 op-in aktiviteter på lejren.\n\nLæs mere: Spejdernes Lejr 2026 [1]\n\n\
 n[1] https://spejderneslejr.dk/\n
URL:https://taasingegruppe.dk/begivenhed/spejdernes-lejr-2026-junior-og-tro
 p
DTSTART;VALUE=DATE:20260718
DTEND;VALUE=DATE:20260726
LOCATION:Hedeland Naturpark\, Tranemosevej 2\, 2640 Hedehusene
END:VEVENT
END:VCALENDAR
